BEGIN:VCALENDAR
VERSION:2.0
PRODID:spatie/icalendar-generator
DESCRIPTION:Veranstaltungen von Posaunenchor Sankt Augustin e.V.
X-WR-CALDESC:Veranstaltungen von Posaunenchor Sankt Augustin e.V.
REFRESH-INTERVAL;VALUE=DURATION:PT1440M
X-PUBLISHED-TTL:PT1440M
BEGIN:VTIMEZONE
TZID:Europe/Berlin
BEGIN:DAYLIGHT
DTSTART:20260329T020000Z
TZOFFSETFROM:+0100
TZOFFSETTO:+0200
END:DAYLIGHT
BEGIN:STANDARD
DTSTART:20261025T030000Z
TZOFFSETFROM:+0200
TZOFFSETTO:+0100
END:STANDARD
BEGIN:DAYLIGHT
DTSTART:20270328T020000Z
TZOFFSETFROM:+0100
TZOFFSETTO:+0200
END:DAYLIGHT
END:VTIMEZONE
BEGIN:VTIMEZONE
TZID:UTC
BEGIN:STANDARD
DTSTART:20250730T004930Z
TZOFFSETFROM:+0000
TZOFFSETTO:+0000
END:STANDARD
END:VTIMEZONE
BEGIN:VEVENT
UID:300-119
DTSTAMP:20260426T004930Z
SUMMARY:Adventsmusik St. Augustinus\, Menden
LOCATION:St. Augustinus Menden Kirchstraße 16  Sankt Augustin NRW 53757
ORGANIZER;CN=Gerrit Hardung:MAILTO:gerrit.dvader@gmail.com
DTSTART;TZID=Europe/Berlin:20261213T170000
DTEND;TZID=Europe/Berlin:20261213T180000
X-ALT-DESC;FMTTYPE=TEXT/HTML:
CATEGORIES:Auftritt
URL;VALUE=URI:https://posaunenchor-sankt-augustin.de/wp/mc-events/adventsmu
 sik-st-augustinus-menden/
METHOD:PUBLISH
END:VEVENT
END:VCALENDAR