BEGIN:VCALENDAR
VERSION:2.0
PRODID:spatie/icalendar-generator
DESCRIPTION:Veranstaltungen von Posaunenchor Sankt Augustin e.V.
X-WR-CALDESC:Veranstaltungen von Posaunenchor Sankt Augustin e.V.
REFRESH-INTERVAL;VALUE=DURATION:PT1440M
X-PUBLISHED-TTL:PT1440M
BEGIN:VTIMEZONE
TZID:Europe/Berlin
BEGIN:DAYLIGHT
DTSTART:20260329T020000Z
TZOFFSETFROM:+0100
TZOFFSETTO:+0200
END:DAYLIGHT
BEGIN:STANDARD
DTSTART:20261025T030000Z
TZOFFSETFROM:+0200
TZOFFSETTO:+0100
END:STANDARD
BEGIN:DAYLIGHT
DTSTART:20270328T020000Z
TZOFFSETFROM:+0100
TZOFFSETTO:+0200
END:DAYLIGHT
END:VTIMEZONE
BEGIN:VTIMEZONE
TZID:UTC
BEGIN:STANDARD
DTSTART:20250730T040259Z
TZOFFSETFROM:+0000
TZOFFSETTO:+0000
END:STANDARD
END:VTIMEZONE
BEGIN:VEVENT
UID:301-120
DTSTAMP:20260426T040259Z
SUMMARY:Gottesdienst Christuskirche
LOCATION:ev. Christuskirche Hangelar An der evangelischen Kirche 1-3  Sankt
  Augustin NRW 53757
ORGANIZER;CN=Gerrit Hardung:MAILTO:gerrit.dvader@gmail.com
DTSTART;TZID=Europe/Berlin:20261220T100000
DTEND;TZID=Europe/Berlin:20261220T110000
X-ALT-DESC;FMTTYPE=TEXT/HTML:
CATEGORIES:Gottesdienst
URL;VALUE=URI:https://posaunenchor-sankt-augustin.de/wp/mc-events/gottesdie
 nst-christuskirche-3/
METHOD:PUBLISH
END:VEVENT
END:VCALENDAR