BEGIN:VCALENDAR
VERSION:2.0
PRODID:spatie/icalendar-generator
DESCRIPTION:Veranstaltungen von Posaunenchor Sankt Augustin e.V.
X-WR-CALDESC:Veranstaltungen von Posaunenchor Sankt Augustin e.V.
REFRESH-INTERVAL;VALUE=DURATION:PT1440M
X-PUBLISHED-TTL:PT1440M
BEGIN:VTIMEZONE
TZID:Europe/Berlin
BEGIN:DAYLIGHT
DTSTART:20240331T020000Z
TZOFFSETFROM:+0100
TZOFFSETTO:+0200
END:DAYLIGHT
BEGIN:STANDARD
DTSTART:20241027T030000Z
TZOFFSETFROM:+0200
TZOFFSETTO:+0100
END:STANDARD
END:VTIMEZONE
BEGIN:VTIMEZONE
TZID:UTC
BEGIN:STANDARD
DTSTART:20250724T020732Z
TZOFFSETFROM:+0000
TZOFFSETTO:+0000
END:STANDARD
END:VTIMEZONE
BEGIN:VEVENT
UID:58-8
DTSTAMP:20260420T020732Z
SUMMARY:Generalprobe Serenade
LOCATION:ev. Pauluskirche Sankt Augustin Ort An den drei Eichen  1-2  Sankt
  Augustin NRW 53757
ORGANIZER;CN=pcAdmin:MAILTO:admin@posaunenchor-sankt-augustin.de
DTSTART;TZID=Europe/Berlin:20240823T180000
DTEND;TZID=Europe/Berlin:20240823T200000
X-ALT-DESC;FMTTYPE=TEXT/HTML:
CATEGORIES:Probe
URL;VALUE=URI:https://posaunenchor-sankt-augustin.de/wp/mc-events/generalpr
 obe-serenade/
METHOD:PUBLISH
END:VEVENT
END:VCALENDAR