BEGIN:VCALENDAR
VERSION:2.0
PRODID:spatie/icalendar-generator
DESCRIPTION:Veranstaltungen von Posaunenchor Sankt Augustin e.V.
X-WR-CALDESC:Veranstaltungen von Posaunenchor Sankt Augustin e.V.
REFRESH-INTERVAL;VALUE=DURATION:PT1440M
X-PUBLISHED-TTL:PT1440M
BEGIN:VTIMEZONE
TZID:Europe/Berlin
BEGIN:DAYLIGHT
DTSTART:20240331T020000Z
TZOFFSETFROM:+0100
TZOFFSETTO:+0200
END:DAYLIGHT
BEGIN:STANDARD
DTSTART:20241027T030000Z
TZOFFSETFROM:+0200
TZOFFSETTO:+0100
END:STANDARD
BEGIN:DAYLIGHT
DTSTART:20250330T020000Z
TZOFFSETFROM:+0100
TZOFFSETTO:+0200
END:DAYLIGHT
END:VTIMEZONE
BEGIN:VTIMEZONE
TZID:UTC
BEGIN:STANDARD
DTSTART:20250727T201316Z
TZOFFSETFROM:+0000
TZOFFSETTO:+0000
END:STANDARD
END:VTIMEZONE
BEGIN:VEVENT
UID:80-30
DTSTAMP:20260423T201316Z
SUMMARY:Martinszug Kindergarten Pauluskirche
LOCATION:ev. Pauluskirche Sankt Augustin Ort An den drei Eichen  1-2  Sankt
  Augustin NRW 53757
ORGANIZER;CN=pcAdmin:MAILTO:admin@posaunenchor-sankt-augustin.de
DTSTART;TZID=Europe/Berlin:20241108T173000
DTEND;TZID=Europe/Berlin:20241108T183000
X-ALT-DESC;FMTTYPE=TEXT/HTML:
CATEGORIES:Auftritt
URL;VALUE=URI:https://posaunenchor-sankt-augustin.de/wp/mc-events/martinszu
 g-kindergarten-pauluskirche/
METHOD:PUBLISH
END:VEVENT
END:VCALENDAR