BEGIN:VCALENDAR
VERSION:2.0
PRODID:spatie/icalendar-generator
DESCRIPTION:Veranstaltungen von Posaunenchor Sankt Augustin e.V.
X-WR-CALDESC:Veranstaltungen von Posaunenchor Sankt Augustin e.V.
REFRESH-INTERVAL;VALUE=DURATION:PT1440M
X-PUBLISHED-TTL:PT1440M
BEGIN:VTIMEZONE
TZID:Europe/Berlin
BEGIN:DAYLIGHT
DTSTART:20260329T020000Z
TZOFFSETFROM:+0100
TZOFFSETTO:+0200
END:DAYLIGHT
BEGIN:STANDARD
DTSTART:20261025T030000Z
TZOFFSETFROM:+0200
TZOFFSETTO:+0100
END:STANDARD
BEGIN:DAYLIGHT
DTSTART:20270328T020000Z
TZOFFSETFROM:+0100
TZOFFSETTO:+0200
END:DAYLIGHT
END:VTIMEZONE
BEGIN:VTIMEZONE
TZID:UTC
BEGIN:STANDARD
DTSTART:20250727T003449Z
TZOFFSETFROM:+0000
TZOFFSETTO:+0000
END:STANDARD
END:VTIMEZONE
BEGIN:VEVENT
UID:288-107
DTSTAMP:20260423T003449Z
SUMMARY:Erntedankfest Gut Friedrichstein
LOCATION:Gut Friedrichstein Schulstraße 201  Sankt Augustin NRW 53757
ORGANIZER;CN=Gerrit Hardung:MAILTO:gerrit.dvader@gmail.com
DTSTART;TZID=Europe/Berlin:20261004T110000
DTEND;TZID=Europe/Berlin:20261004T120000
X-ALT-DESC;FMTTYPE=TEXT/HTML:
CATEGORIES:Gottesdienst
URL;VALUE=URI:https://posaunenchor-sankt-augustin.de/wp/mc-events/erntedank
 fest-gut-friedrichstein-2/
METHOD:PUBLISH
END:VEVENT
END:VCALENDAR