BEGIN:VCALENDAR
VERSION:2.0
PRODID:spatie/icalendar-generator
DESCRIPTION:Veranstaltungen von Posaunenchor Sankt Augustin e.V.
X-WR-CALDESC:Veranstaltungen von Posaunenchor Sankt Augustin e.V.
REFRESH-INTERVAL;VALUE=DURATION:PT1440M
X-PUBLISHED-TTL:PT1440M
BEGIN:VTIMEZONE
TZID:Europe/Berlin
BEGIN:STANDARD
DTSTART:20251026T030000Z
TZOFFSETFROM:+0200
TZOFFSETTO:+0100
END:STANDARD
BEGIN:DAYLIGHT
DTSTART:20260329T020000Z
TZOFFSETFROM:+0100
TZOFFSETTO:+0200
END:DAYLIGHT
BEGIN:STANDARD
DTSTART:20261025T030000Z
TZOFFSETFROM:+0200
TZOFFSETTO:+0100
END:STANDARD
END:VTIMEZONE
BEGIN:VTIMEZONE
TZID:UTC
BEGIN:STANDARD
DTSTART:20250724T032652Z
TZOFFSETFROM:+0000
TZOFFSETTO:+0000
END:STANDARD
END:VTIMEZONE
BEGIN:VEVENT
UID:304-104
DTSTAMP:20260420T032652Z
SUMMARY:ökumenischer Gottesdienst in der Pfarrkirche St.Anna
LOCATION:St.Anna\, Hangelar Franz-Jacobi-Straße 4  Sankt Augustin NRW 5375
 7
ORGANIZER;CN=pcAdmin:MAILTO:admin@posaunenchor-sankt-augustin.de
DTSTART;TZID=Europe/Berlin:20260614T110000
DTEND;TZID=Europe/Berlin:20260614T120000
X-ALT-DESC;FMTTYPE=TEXT/HTML:anlässlich des Pfarrfestes
CATEGORIES:Gottesdienst
URL;VALUE=URI:https://posaunenchor-sankt-augustin.de/wp/mc-events/oekumenis
 cher-gottesdienst-in-der-pfarrkirche-st-anna/
METHOD:PUBLISH
END:VEVENT
END:VCALENDAR